BEGIN:VCALENDAR
VERSION:2.0
PRODID:-//Tukios.com/
BEGIN:VEVENT
UID:8ba74252-d7d9-4013-a129-c67fa5ae20c8@www.cavallinfuneralhome.com
DTSTAMP:20260420T081514Z
DTSTART:20260425T180000Z
DTEND:20260425T190000Z
SUMMARY:Celebration of Life
DESCRIPTION:
URL:https://www.cavallinfuneralhome.com/obituaries/allan-brandt
LOCATION: 709 1st Ave  Two Harbors MN 55616
GEO:47.0200418;-91.6734091
END:VEVENT
END:VCALENDAR